BEGIN:VCALENDAR
VERSION:2.0
PRODID:-//Minding Creative Minds - ECPv6.15.20//NONSGML v1.0//EN
CALSCALE:GREGORIAN
METHOD:PUBLISH
X-WR-CALNAME:Minding Creative Minds
X-ORIGINAL-URL:https://mindingcreativeminds.ie
X-WR-CALDESC:Events for Minding Creative Minds
REFRESH-INTERVAL;VALUE=DURATION:PT1H
X-Robots-Tag:noindex
X-PUBLISHED-TTL:PT1H
BEGIN:VTIMEZONE
TZID:Europe/Dublin
BEGIN:STANDARD
TZOFFSETFROM:+0000
TZOFFSETTO:+0100
TZNAME:IST
DTSTART:20230326T010000
END:STANDARD
BEGIN:DAYLIGHT
TZOFFSETFROM:+0100
TZOFFSETTO:+0000
TZNAME:GMT
DTSTART:20231029T010000
END:DAYLIGHT
BEGIN:STANDARD
TZOFFSETFROM:+0000
TZOFFSETTO:+0100
TZNAME:IST
DTSTART:20240331T010000
END:STANDARD
BEGIN:DAYLIGHT
TZOFFSETFROM:+0100
TZOFFSETTO:+0000
TZNAME:GMT
DTSTART:20241027T010000
END:DAYLIGHT
BEGIN:STANDARD
TZOFFSETFROM:+0000
TZOFFSETTO:+0100
TZNAME:IST
DTSTART:20250330T010000
END:STANDARD
BEGIN:DAYLIGHT
TZOFFSETFROM:+0100
TZOFFSETTO:+0000
TZNAME:GMT
DTSTART:20251026T010000
END:DAYLIGHT
END:VTIMEZONE
BEGIN:VEVENT
DTSTART;TZID=Europe/Dublin:20240729T190000
DTEND;TZID=Europe/Dublin:20240729T200000
DTSTAMP:20260421T091711
CREATED:20240723T101906Z
LAST-MODIFIED:20240723T101945Z
UID:3260-1722279600-1722283200@mindingcreativeminds.ie
SUMMARY:Meet & Greet - July 29th
DESCRIPTION:Our monthly Meet & Greet session – an opportunity for attendees to share our experiences\, share advice with each other and have a conversation with our peers as we strive to get our sector back to full health. Some of us may wish to tell our story\, others may have questions\, some of us may wish to attend as spectators just to find out a little more about what we do. Whatever works for you in attending\, works for us. We want you to help us shape MCM and our events\, so we as an organisation can maximise our efficiency in aiding and supporting your needs. \nFree as always\, but you must register via this link:
URL:https://mindingcreativeminds.ie/events/meet-greet-july-29th/
LOCATION:Online (Zoom)
END:VEVENT
END:VCALENDAR