BEGIN:VCALENDAR
VERSION:2.0
PRODID:-//Minding Creative Minds - ECPv6.15.20//NONSGML v1.0//EN
CALSCALE:GREGORIAN
METHOD:PUBLISH
X-WR-CALNAME:Minding Creative Minds
X-ORIGINAL-URL:https://mindingcreativeminds.ie
X-WR-CALDESC:Events for Minding Creative Minds
REFRESH-INTERVAL;VALUE=DURATION:PT1H
X-Robots-Tag:noindex
X-PUBLISHED-TTL:PT1H
BEGIN:VTIMEZONE
TZID:Europe/Dublin
BEGIN:STANDARD
TZOFFSETFROM:+0000
TZOFFSETTO:+0100
TZNAME:IST
DTSTART:20230326T010000
END:STANDARD
BEGIN:DAYLIGHT
TZOFFSETFROM:+0100
TZOFFSETTO:+0000
TZNAME:GMT
DTSTART:20231029T010000
END:DAYLIGHT
BEGIN:STANDARD
TZOFFSETFROM:+0000
TZOFFSETTO:+0100
TZNAME:IST
DTSTART:20240331T010000
END:STANDARD
BEGIN:DAYLIGHT
TZOFFSETFROM:+0100
TZOFFSETTO:+0000
TZNAME:GMT
DTSTART:20241027T010000
END:DAYLIGHT
BEGIN:STANDARD
TZOFFSETFROM:+0000
TZOFFSETTO:+0100
TZNAME:IST
DTSTART:20250330T010000
END:STANDARD
BEGIN:DAYLIGHT
TZOFFSETFROM:+0100
TZOFFSETTO:+0000
TZNAME:GMT
DTSTART:20251026T010000
END:DAYLIGHT
END:VTIMEZONE
BEGIN:VEVENT
DTSTART;TZID=Europe/Dublin:20240814T183000
DTEND;TZID=Europe/Dublin:20240814T193000
DTSTAMP:20260421T091742
CREATED:20240802T115215Z
LAST-MODIFIED:20240802T115215Z
UID:3280-1723660200-1723663800@mindingcreativeminds.ie
SUMMARY:Stage Craft Essentials for Musicians
DESCRIPTION:Join us via Zoom for our Workshop with Rowan McDonagh. This is a guide for musicians who are about to start playing live venues or moving up the ranks to larger festival stages of all sizes. We aim to have you stage ready for whatever your career is about to bring you. \nWednesday August 14th 18:30 – 19:30 hrs. \nPlease note there may be videography and photography during the event which may be used across the Minding Creative Minds social media and for future digital and print promotional material.
URL:https://mindingcreativeminds.ie/events/stage-craft-essentials-for-musicians/
LOCATION:Online (Zoom)
END:VEVENT
END:VCALENDAR