BEGIN:VCALENDAR
VERSION:2.0
PRODID:-//Minding Creative Minds - ECPv6.15.20//NONSGML v1.0//EN
CALSCALE:GREGORIAN
METHOD:PUBLISH
X-ORIGINAL-URL:https://mindingcreativeminds.ie
X-WR-CALDESC:Events for Minding Creative Minds
REFRESH-INTERVAL;VALUE=DURATION:PT1H
X-Robots-Tag:noindex
X-PUBLISHED-TTL:PT1H
BEGIN:VTIMEZONE
TZID:Europe/Dublin
BEGIN:STANDARD
TZOFFSETFROM:+0000
TZOFFSETTO:+0100
TZNAME:IST
DTSTART:20250330T010000
END:STANDARD
BEGIN:DAYLIGHT
TZOFFSETFROM:+0100
TZOFFSETTO:+0000
TZNAME:GMT
DTSTART:20251026T010000
END:DAYLIGHT
BEGIN:STANDARD
TZOFFSETFROM:+0000
TZOFFSETTO:+0100
TZNAME:IST
DTSTART:20260329T010000
END:STANDARD
BEGIN:DAYLIGHT
TZOFFSETFROM:+0100
TZOFFSETTO:+0000
TZNAME:GMT
DTSTART:20261025T010000
END:DAYLIGHT
BEGIN:STANDARD
TZOFFSETFROM:+0000
TZOFFSETTO:+0100
TZNAME:IST
DTSTART:20270328T010000
END:STANDARD
BEGIN:DAYLIGHT
TZOFFSETFROM:+0100
TZOFFSETTO:+0000
TZNAME:GMT
DTSTART:20271031T010000
END:DAYLIGHT
END:VTIMEZONE
BEGIN:VEVENT
DTSTART;TZID=Europe/Dublin:20260422T180000
DTEND;TZID=Europe/Dublin:20260422T190000
DTSTAMP:20260425T043856
CREATED:20260318T140755Z
LAST-MODIFIED:20260318T140755Z
UID:4695-1776880800-1776884400@mindingcreativeminds.ie
SUMMARY:Selling or Licensing your Creative Work
DESCRIPTION:Join us via Zoom for our Workshop with Ian Shipley. This workshop is a practical introduction to licensing for creators of digital\, visual\, art\, and audio content\, covering IP protection\, readiness\, pitfalls\, and key contract essentials. \nWednesday April 22nd 6pm – 7pm. \nPlease note there may be videography and photography during the event which may be used across the Minding Creative Minds social media and for future digital and print promotional material. \nWorkshops are NOT Recorded.
URL:https://mindingcreativeminds.ie/events/selling-licensing-your-work/
LOCATION:Online (Zoom)
END:VEVENT
END:VCALENDAR